BEGIN:VCALENDAR
VERSION:2.0
PRODID:-//ChamberMaster//Event Calendar 2.0//EN
METHOD:PUBLISH
X-PUBLISHED-TTL:P1H
REFRESH-INTERVAL:P1H
CALSCALE:GREGORIAN
BEGIN:VTIMEZONE
TZID:America/Denver
BEGIN:DAYLIGHT
RRULE:FREQ=YEARLY;BYMONTH=3;BYDAY=2SU
DTSTART:20070101T000000
TZOFFSETFROM:-0700
TZOFFSETTO:-0600
TZNAME:Mountain Daylight Time
END:DAYLIGHT
BEGIN:STANDARD
RRULE:FREQ=YEARLY;BYMONTH=11;BYDAY=1SU
DTSTART:20070101T000000
TZOFFSETFROM:-0600
TZOFFSETTO:-0700
TZNAME:Mountain Standard Time
END:STANDARD
END:VTIMEZONE
BEGIN:VEVENT
DTSTART;TZID=America/Denver:20260722T113000
DTEND;TZID=America/Denver:20260722T133000
X-MICROSOFT-CDO-ALLDAYEVENT:FALSE
SUMMARY:2026 BOMA July Membership Meeting Lunch
DESCRIPTION:Please save the date for our Summer Membership Meeting Lunch.
X-ALT-DESC;FMTTYPE=text/html:<!DOCTYPE html><html><head><title></title></head><body aria-disabled="false"><p>Please save the date for our Summer Membership Meeting Lunch.</p></body></html>
LOCATION:Denver CO 80222
UID:e.3086.1425767
SEQUENCE:3
DTSTAMP:20260424T012831Z
URL:https://denvermetrobuildingownersmanagersassociationboma.growthzoneapp.com/event-calendar/Details/2026-boma-july-membership-meeting-lunch-1685824?sourceTypeId=Hub
END:VEVENT
END:VCALENDAR
