BEGIN:VCALENDAR
VERSION:2.0
PRODID:-//ChamberMaster//Event Calendar 2.0//EN
METHOD:PUBLISH
X-PUBLISHED-TTL:P1H
REFRESH-INTERVAL:P1H
CALSCALE:GREGORIAN
BEGIN:VTIMEZONE
TZID:America/Denver
BEGIN:DAYLIGHT
RRULE:FREQ=YEARLY;BYMONTH=3;BYDAY=2SU
DTSTART:20070101T000000
TZOFFSETFROM:-0700
TZOFFSETTO:-0600
TZNAME:Mountain Daylight Time
END:DAYLIGHT
BEGIN:STANDARD
RRULE:FREQ=YEARLY;BYMONTH=11;BYDAY=1SU
DTSTART:20070101T000000
TZOFFSETFROM:-0600
TZOFFSETTO:-0700
TZNAME:Mountain Standard Time
END:STANDARD
END:VTIMEZONE
BEGIN:VEVENT
DTSTART;TZID=America/Denver:20260512T150000
DTEND;TZID=America/Denver:20260527T180000
X-MICROSOFT-CDO-ALLDAYEVENT:FALSE
SUMMARY:BOMA Chicago Webinar: RPA Course: Design\, Operation\, and the Maintenance of Building Systems - Part I
DESCRIPTION:RPA Course: Design Ops Part I Virtual Class: All classes will be recorded. If you miss a class\, you can watch the recording. Recordings will be available for six months after the first date of class. Dates: May 12\, 13\, 19\, 20\, 26\, and 27 Times: 4PM to 7PM Central (3PM to 6PM Mountain)Instructor: Thomas Rountree (Cushman & Wakefield) & Phil Koth (Transwestern) Cost: $1\,170 for BOMA Denver StudentsContact jmadden@bomachicago.org to register The Design\, Operation\, and Maintenance of Building Systems\, Part I provides information that property and facilities managers will need to manage the ongoing operation and maintenance of building systems and to maximize building efficiency and cost-effectiveness. In this course\, you will learn about building design and construction\, project delivery\, construction materials\, and building systems\, including HVAC\, roofing\, and plumbing systems\, as well as ceilings\, flooring\, and interior walls.
X-ALT-DESC;FMTTYPE=text/html:<!DOCTYPE html><html><head><title></title></head><body aria-disabled="false"><p><strong fr-original-style="" style="font-weight: 700\;">RPA Course: Design Ops Part I&nbsp\;</strong></p><p><strong fr-original-style="" style="font-weight: 700\;">Virtual Class:</strong> All classes will be recorded. If you miss a class\, you can watch the recording. Recordings will be available for six months after the first date of class.&nbsp\;</p><p><strong fr-original-style="" style="font-weight: 700\;">Dates:</strong> May 12\, 13\, 19\, 20\, 26\, and 27&nbsp\;</p><p><strong fr-original-style="" style="font-weight: 700\;">Times:</strong> 4PM to 7PM Central (3PM to 6PM Mountain)</p><p><strong fr-original-style="" style="font-weight: 700\;">Instructor:</strong> Thomas Rountree (Cushman &amp\; Wakefield) &amp\; Phil Koth (Transwestern)&nbsp\;</p><p><strong fr-original-style="" style="font-weight: 700\;">Cost:</strong>&nbsp\;$1\,170 for BOMA Denver Students</p><p>Contact <strong fr-original-style="" style="font-weight: 700\;">jmadden@bomachicago.org</strong> to register&nbsp\;</p><p>The Design\, Operation\, and Maintenance of Building Systems\, Part I provides information that property and facilities managers will need to manage the ongoing operation and maintenance of building systems and to maximize building efficiency and cost-effectiveness. In this course\, you will learn about building design and construction\, project delivery\, construction materials\, and building systems\, including HVAC\, roofing\, and plumbing systems\, as well as ceilings\, flooring\, and interior walls.</p></body></html>
LOCATION:
UID:e.3086.1409896
SEQUENCE:3
DTSTAMP:20260424T012831Z
URL:https://denvermetrobuildingownersmanagersassociationboma.growthzoneapp.com/event-calendar/Details/boma-chicago-webinar-rpa-course-design-operation-and-the-maintenance-of-building-systems-part-i-1666125?sourceTypeId=Hub
END:VEVENT
END:VCALENDAR
