BEGIN:VCALENDAR
VERSION:2.0
PRODID:-//ChamberMaster//Event Calendar 2.0//EN
METHOD:PUBLISH
X-PUBLISHED-TTL:P1H
REFRESH-INTERVAL:P1H
CALSCALE:GREGORIAN
BEGIN:VTIMEZONE
TZID:America/Denver
BEGIN:DAYLIGHT
RRULE:FREQ=YEARLY;BYMONTH=3;BYDAY=2SU
DTSTART:20070101T000000
TZOFFSETFROM:-0700
TZOFFSETTO:-0600
TZNAME:Mountain Daylight Time
END:DAYLIGHT
BEGIN:STANDARD
RRULE:FREQ=YEARLY;BYMONTH=11;BYDAY=1SU
DTSTART:20070101T000000
TZOFFSETFROM:-0600
TZOFFSETTO:-0700
TZNAME:Mountain Standard Time
END:STANDARD
END:VTIMEZONE
BEGIN:VEVENT
DTSTART;TZID=America/Denver:20260407T140000
DTEND;TZID=America/Denver:20260422T170000
X-MICROSOFT-CDO-ALLDAYEVENT:FALSE
SUMMARY:BOMA Chicago Webinar: RPA Course: Law & Risk Management
DESCRIPTION:Law and Risk Management (RPA Course)Virtual Class: The class will be recorded and available to watch for six months.Date: April 7\, 8\, 14\, 15\, 21\, and 22Time: 3 to 6 PMInstructor: Amy Natoli (Thomas Park)Cost: $1\,170  for BOMA Denver Students (BOMA Denver is passing the rebate directly to you\, reducing the cost of this class and making it more affordable.)Contact: Jaclynne Madden with BOMA Chicago at 312-870-9608 or jmadden@bomachicago.org to register.  The RPA Law & Risk Management course equips you with the knowledge and tools to confidently navigate legal obligations and mitigate risk. Participants will gain a practical understanding of how to identify potential exposures\, evaluate and manage losses\, interpret insurance policies\, and apply key legal principles to everyday decision-making. Core topics include risk management processes\, insurance fundamentals\, claims and underwriting\, torts and contracts\, employer employee relationships\, property rights\, environmental legislation\, and more.Thank you to BOMA Chicago for inviting Denver members to participate.
X-ALT-DESC;FMTTYPE=text/html:<!DOCTYPE html><html><head><title></title></head><body aria-disabled="false"><p><strong fr-original-style="" style="font-weight: 700\;">Law and Risk Management (RPA Course)</strong></p><p><strong fr-original-style="" style="font-weight: 700\;">Virtual Class: </strong>The class will be recorded and available to watch for six months.</p><p><strong fr-original-style="" style="font-weight: 700\;">Date:</strong> April 7\, 8\, 14\, 15\, 21\, and 22</p><p><strong fr-original-style="" style="font-weight: 700\;">Time:</strong> 3 to 6 PM</p><p><strong fr-original-style="" style="font-weight: 700\;">Instructor:</strong> Amy Natoli (Thomas Park)</p><p><strong fr-original-style="" style="font-weight: 700\;">Cost:</strong> $1\,170 &nbsp\;for BOMA Denver Students (BOMA Denver is passing the rebate directly to you\, reducing the cost of this class and making it more affordable.)</p><div style="text-align: left\; margin-top: 0.5em\; margin-bottom: 0.5em\;">Contact: Jaclynne Madden with BOMA Chicago at 312-870-9608 or <strong fr-original-style="" style="font-weight: 700\;">jmadden@bomachicago.org</strong> to register. &nbsp\;</div><p style="color: rgb(0\, 0\, 0)\; font-family: Arial\; font-size: medium\; font-style: normal\; font-variant-ligatures: normal\; font-variant-caps: normal\; font-weight: 400\; letter-spacing: normal\; orphans: 2\; text-align: start\; text-indent: 0px\; text-transform: none\; widows: 2\; word-spacing: 0px\; -webkit-text-stroke-width: 0px\; white-space: normal\; text-decoration-thickness: initial\; text-decoration-style: initial\; text-decoration-color: initial\;">The RPA Law &amp\; Risk Management course equips you with the knowledge and tools to confidently navigate legal obligations and mitigate risk. Participants will gain a practical understanding of how to identify potential exposures\, evaluate and manage losses\, interpret insurance policies\, and apply key legal principles to everyday decision-making. Core topics include risk management processes\, insurance fundamentals\, claims and underwriting\, torts and contracts\, employer&ndash\;employee relationships\, property rights\, environmental legislation\, and more.</p><p style="color: rgb(0\, 0\, 0)\; font-family: Arial\; font-size: medium\; font-style: normal\; font-variant-ligatures: normal\; font-variant-caps: normal\; font-weight: 400\; letter-spacing: normal\; orphans: 2\; text-align: start\; text-indent: 0px\; text-transform: none\; widows: 2\; word-spacing: 0px\; -webkit-text-stroke-width: 0px\; white-space: normal\; text-decoration-thickness: initial\; text-decoration-style: initial\; text-decoration-color: initial\;">Thank you to BOMA Chicago for inviting Denver members to participate.</p></body></html>
LOCATION:
UID:e.3086.1392523
SEQUENCE:3
DTSTAMP:20260424T012832Z
URL:https://denvermetrobuildingownersmanagersassociationboma.growthzoneapp.com/event-calendar/Details/boma-chicago-webinar-rpa-course-law-risk-management-1645023?sourceTypeId=Hub
END:VEVENT
END:VCALENDAR
