BEGIN:VCALENDAR
VERSION:2.0
PRODID:-//ChamberMaster//Event Calendar 2.0//EN
METHOD:PUBLISH
X-PUBLISHED-TTL:P1H
REFRESH-INTERVAL:P1H
CALSCALE:GREGORIAN
BEGIN:VTIMEZONE
TZID:America/Denver
BEGIN:DAYLIGHT
RRULE:FREQ=YEARLY;BYMONTH=3;BYDAY=2SU
DTSTART:20070101T000000
TZOFFSETFROM:-0700
TZOFFSETTO:-0600
TZNAME:Mountain Daylight Time
END:DAYLIGHT
BEGIN:STANDARD
RRULE:FREQ=YEARLY;BYMONTH=11;BYDAY=1SU
DTSTART:20070101T000000
TZOFFSETFROM:-0600
TZOFFSETTO:-0700
TZNAME:Mountain Standard Time
END:STANDARD
END:VTIMEZONE
BEGIN:VEVENT
DTSTART;TZID=America/Denver:20260528T160000
DTEND;TZID=America/Denver:20260528T180000
X-MICROSOFT-CDO-ALLDAYEVENT:FALSE
SUMMARY:BOMA Sommerfest (Summer Social)
DESCRIPTION:Save the date for the BOMA Sommerfest hosted by the BOMA Associate Member Committee at Rhein Haus on Thursday\, May 28th!View Sponsorship Packet hereAssociate Member Registration\nEarly Bird (through April 30\, 2026): $60\nStandard (May 1-20\, 2026): $75Principal Member Registration\nFREE with code SOMMERPRINCIPALAll members who register before May 20\, 2026 at 5 pm will be automatically entered into the Door Prize Drawing. You must be present to win.
X-ALT-DESC;FMTTYPE=text/html:<!DOCTYPE html><html><head><title></title></head><body aria-disabled="false"><p>Save the date for the BOMA Sommerfest hosted by the BOMA Associate Member Committee at Rhein Haus on Thursday\, May 28th!</p><p><span style="color: rgb(84\, 172\, 210)\;"><a fr-original-style="" href="https://denvermetrobuildingownersmanagersassociationboma.growthzoneapp.com/ap/CloudFile/Download/LEaw8V0L" rel="noopener noreferrer" style="user-select: auto\; color: inherit\;" target="_blank"><strong fr-original-style="" style="font-weight: 700\;">View Sponsorship Packet here</strong></a></span></p><p style="line-height: 140%\;"><strong fr-original-style="" style="font-weight: 700\;">Associate Member Registration</strong><br>Early Bird (through April 30\, 2026): $60<br>Standard (May 1-20\, 2026): $75</p><p style="line-height: 140%\;"><strong fr-original-style="" style="font-weight: 700\;">Principal Member Registration</strong><br>FREE with code <strong fr-original-style="" style="font-weight: 700\;"><span style="color: rgb(250\, 197\, 28)\;">SOMMERPRINCIPAL</span></strong></p><p>All members who register before May 20\, 2026 at 5 pm will be automatically entered into the Door Prize Drawing. You must be present to win.</p></body></html>
LOCATION:Rhein Haus - 1415 Market St. Denver 80202
UID:e.3086.1365053
SEQUENCE:3
DTSTAMP:20260424T012745Z
URL:https://denvermetrobuildingownersmanagersassociationboma.growthzoneapp.com/event-calendar/Details/boma-sommerfest-summer-social-1610610?sourceTypeId=Hub
END:VEVENT
END:VCALENDAR
