BEGIN:VCALENDAR
VERSION:2.0
PRODID:-//ChamberMaster//Event Calendar 2.0//EN
METHOD:PUBLISH
X-PUBLISHED-TTL:P1H
REFRESH-INTERVAL:P1H
CALSCALE:GREGORIAN
BEGIN:VTIMEZONE
TZID:America/Denver
BEGIN:DAYLIGHT
RRULE:FREQ=YEARLY;BYMONTH=3;BYDAY=2SU
DTSTART:20070101T000000
TZOFFSETFROM:-0700
TZOFFSETTO:-0600
TZNAME:Mountain Daylight Time
END:DAYLIGHT
BEGIN:STANDARD
RRULE:FREQ=YEARLY;BYMONTH=11;BYDAY=1SU
DTSTART:20070101T000000
TZOFFSETFROM:-0600
TZOFFSETTO:-0700
TZNAME:Mountain Standard Time
END:STANDARD
END:VTIMEZONE
BEGIN:VEVENT
DTSTART;TZID=America/Denver:20260402T163000
DTEND;TZID=America/Denver:20260402T183000
X-MICROSOFT-CDO-ALLDAYEVENT:FALSE
SUMMARY:Meet the Prez: Equitable Building - Historical Landmark
DESCRIPTION:Come join BOMA members for a classic Denver tradition: Meet the President at the historic Equitable Building\, a downtown landmark since 1892. This free networking event is a great way to connect with other commercial real estate professionals while enjoying light appetizers and drinks. You'll also have the chance to take short tours with the building's management team to learn about its history and unique architecture. Sign up today to meet Tanya Bouthillier\, build new relationships\, and experience a special part of Denver's commercial real estate story.Where: Equitable Building | 730 17th Street Denver\, CO 80202When:  Thursday\, April 2\, 2026 4:30 PM - 6:30 PM
X-ALT-DESC;FMTTYPE=text/html:<!DOCTYPE html><html><head><title></title></head><body aria-disabled="false"><div style="text-align: left\; margin-top: 0.5em\; margin-bottom: 0.5em\;">Come join BOMA members for a classic Denver tradition: Meet the President at the historic Equitable Building\, a downtown landmark since 1892. This free networking event is a great way to connect with other commercial real estate professionals while enjoying light appetizers and drinks. You&rsquo\;ll also have the chance to take short tours with the building&rsquo\;s management team to learn about its history and unique architecture. Sign up today to meet Tanya Bouthillier\, build new relationships\, and experience a special part of Denver&rsquo\;s commercial real estate story.</div><p>Where: Equitable Building | 730 17th Street Denver\, CO 80202</p><p>When: &nbsp\;Thursday\, April 2\, 2026 4:30 PM - 6:30 PM</p><p><br></p><p><br></p><p><br></p></body></html>
LOCATION:730 17th Street (The entrance is around the corner on Stout St.) Main Level Denver CO 80202
UID:e.3086.1418020
SEQUENCE:3
DTSTAMP:20260424T012832Z
URL:https://denvermetrobuildingownersmanagersassociationboma.growthzoneapp.com/event-calendar/Details/meet-the-prez-equitable-building-historical-landmark-1676137?sourceTypeId=Hub
END:VEVENT
END:VCALENDAR
